BEGIN:VCALENDAR
VERSION:2.0
PRODID:-//BufferSounds - ECPv6.15.18//NONSGML v1.0//EN
CALSCALE:GREGORIAN
METHOD:PUBLISH
X-ORIGINAL-URL:https://buffersounds.com
X-WR-CALDESC:Events for BufferSounds
REFRESH-INTERVAL;VALUE=DURATION:PT1H
X-Robots-Tag:noindex
X-PUBLISHED-TTL:PT1H
BEGIN:VTIMEZONE
TZID:Europe/Paris
BEGIN:DAYLIGHT
TZOFFSETFROM:+0100
TZOFFSETTO:+0200
TZNAME:CEST
DTSTART:20240331T010000
END:DAYLIGHT
BEGIN:STANDARD
TZOFFSETFROM:+0200
TZOFFSETTO:+0100
TZNAME:CET
DTSTART:20241027T010000
END:STANDARD
BEGIN:DAYLIGHT
TZOFFSETFROM:+0100
TZOFFSETTO:+0200
TZNAME:CEST
DTSTART:20250330T010000
END:DAYLIGHT
BEGIN:STANDARD
TZOFFSETFROM:+0200
TZOFFSETTO:+0100
TZNAME:CET
DTSTART:20251026T010000
END:STANDARD
BEGIN:DAYLIGHT
TZOFFSETFROM:+0100
TZOFFSETTO:+0200
TZNAME:CEST
DTSTART:20260329T010000
END:DAYLIGHT
BEGIN:STANDARD
TZOFFSETFROM:+0200
TZOFFSETTO:+0100
TZNAME:CET
DTSTART:20261025T010000
END:STANDARD
END:VTIMEZONE
BEGIN:VEVENT
DTSTART;TZID=Europe/Paris:20250605T170000
DTEND;TZID=Europe/Paris:20250605T210000
DTSTAMP:20260420T152014
CREATED:20250501T083533Z
LAST-MODIFIED:20250501T083535Z
UID:1571-1749142800-1749157200@buffersounds.com
SUMMARY:UnMuted Live: Open Mic • The Silkstone
DESCRIPTION:We’re heading back to The Silkstone in Barnsley on Thursday 5th June 2025 for another evening of real performances and real community vibes. It’s happening from 5PM to 9PM\, and as always\, the stage is yours. \n\n\n\nMore Than Music \n\n\n\nWhile music’s always in the mix\, our nights are open to all kinds of acts—poetry\, comedy\, storytelling\, and beyond. If you’ve got something to share\, we’ve got a mic for you. \n\n\n\nSomething Special Every Time \n\n\n\nEach UnMuted Live night is a little different\, and The Silkstone always brings the energy. Swing by\, bring your mates\, and enjoy a proper night out that feels local and personal.
URL:https://buffersounds.com/event/unmuted-live-open-mic-the-silkstone-2/
LOCATION:The Silkstone\, Park Road\, Barnsley\, South Yorkshire\, S70 1YG\, United Kingdom
ATTACH;FMTTYPE=image/avif:https://buffersounds.com/wp-content/uploads/2025/04/UnMuted_Live-Featured_Img.avif
ORGANIZER;CN="BufferSounds":MAILTO:Connect@BufferSounds.com
END:VEVENT
BEGIN:VEVENT
DTSTART;TZID=Europe/Paris:20250529T170000
DTEND;TZID=Europe/Paris:20250529T210000
DTSTAMP:20260420T152014
CREATED:20250501T083348Z
LAST-MODIFIED:20250501T083623Z
UID:1568-1748538000-1748552400@buffersounds.com
SUMMARY:UnMuted Live: Open Mic • The Dove Inn • 29th May
DESCRIPTION:On Thursday 29th May 2025\, The Dove Inn is the next stop on our UnMuted journey. From 5PM to 9PM\, we’ll be turning the pub into a creative space where anything can happen—and anyone can get involved. \n\n\n\nNo Rules\, Just the Mic \n\n\n\nGot something to share? A song\, a story\, a sketch or a poem? Our stage is open to all kinds of talent\, whether it’s your first time or your fiftieth. No egos\, no expectations—just a relaxed\, welcoming atmosphere. \n\n\n\nKeep It Local\, Make It Memorable \n\n\n\nIf you’re after a unique night out in Barnsley\, this is it. Come see what your local scene has to offer at UnMuted Live at The Dove Inn.
URL:https://buffersounds.com/event/unmuted-live-open-mic-the-dove-inn-29th-may/
LOCATION:The Dove Inn\, 102 Doncaster Rd\, Barnsley\, South Yorkshire\, S70 1TP\, United Kingdom
ATTACH;FMTTYPE=image/avif:https://buffersounds.com/wp-content/uploads/2025/04/UnMuted_Live-Featured_Img.avif
ORGANIZER;CN="BufferSounds":MAILTO:Connect@BufferSounds.com
END:VEVENT
BEGIN:VEVENT
DTSTART;TZID=Europe/Paris:20250522T170000
DTEND;TZID=Europe/Paris:20250522T210000
DTSTAMP:20260420T152014
CREATED:20250501T083138Z
LAST-MODIFIED:20250501T083652Z
UID:1566-1747933200-1747947600@buffersounds.com
SUMMARY:UnMuted Live: Open Mic • The Flying Dutchman • 22nd May
DESCRIPTION:We’re back at The Flying Dutchman in Jump on Thursday 22nd May 2025\, bringing another evening of good tunes\, great laughs\, and unforgettable performances. From 5PM to 9PM\, the mic is open and the welcome is warm. \n\n\n\nStep Up or Sit Back \n\n\n\nWhether you want to perform music\, try out some stand-up\, read poetry\, or simply sit back with a drink and enjoy the vibe—UnMuted Live is the place to be. All styles\, all voices\, all welcome. \n\n\n\nYour Midweek Escape \n\n\n\nTucked away in the heart of Jump\, this open mic night offers something different for your Thursday evening. Bring friends\, bring talent\, or just bring yourself—we’ve got the rest covered.
URL:https://buffersounds.com/event/unmuted-live-open-mic-the-silkstone-22nd-may/
LOCATION:The Flying Dutchman\, The Flying Dutchman\, Jump\, Cemetery Rd\, Jump\, Barnsley\, South Yorkshire\, S74 0JN\, United Kingdom
ATTACH;FMTTYPE=image/avif:https://buffersounds.com/wp-content/uploads/2025/04/UnMuted_Live-Featured_Img.avif
ORGANIZER;CN="BufferSounds":MAILTO:Connect@BufferSounds.com
END:VEVENT
BEGIN:VEVENT
DTSTART;TZID=Europe/Paris:20250515T170000
DTEND;TZID=Europe/Paris:20250515T210000
DTSTAMP:20260420T152014
CREATED:20250501T082258Z
LAST-MODIFIED:20250501T083705Z
UID:1558-1747328400-1747342800@buffersounds.com
SUMMARY:UnMuted Live: Open Mic • The Silkstone
DESCRIPTION:UnMuted Live brings laid-back\, feel-good open mic nights to venues across Yorkshire—and on Thursday 15th May 2025\, we’re heading to The Silkstone in Barnsley. Things kick off at 5PM and run through to 9PM\, so come down early and settle in for an evening full of live performances\, good vibes\, and friendly faces. \n\n\n\nAll Kinds of Talent\, One Welcoming Stage \n\n\n\nWhether it’s music\, poetry\, stand-up\, or something totally unexpected\, UnMuted Live is a space for everyone to share what they do best. No pressure\, no pretence—just a welcoming stage and an open-minded crowd. \n\n\n\nA Night Out with a Twist \n\n\n\nLooking for live entertainment in Barnsley on a Thursday night? Whether you’re performing or just out to discover something new\, UnMuted Live at The Silkstone is your perfect midweek plan.
URL:https://buffersounds.com/event/unmuted-live-open-mic-the-silkstone/
LOCATION:The Silkstone\, Park Road\, Barnsley\, South Yorkshire\, S70 1YG\, United Kingdom
ATTACH;FMTTYPE=image/avif:https://buffersounds.com/wp-content/uploads/2025/04/UnMuted_Live-Featured_Img.avif
ORGANIZER;CN="BufferSounds":MAILTO:Connect@BufferSounds.com
END:VEVENT
BEGIN:VEVENT
DTSTART;TZID=Europe/Paris:20250508T170000
DTEND;TZID=Europe/Paris:20250508T210000
DTSTAMP:20260420T152014
CREATED:20250501T081534Z
LAST-MODIFIED:20250501T083726Z
UID:1554-1746723600-1746738000@buffersounds.com
SUMMARY:UnMuted Live: Open Mic • The Dove Inn
DESCRIPTION:UnMuted Live is a roaming open mic night bringing raw\, feel-good live performances to venues across Yorkshire. From Barnsley to Leeds\, Sheffield to smaller villages in between\, we create laid-back\, welcoming spaces where performers and audiences come together for a proper good night. \n\n\n\nNext Stop: The Dove Inn\, Barnsley \n\n\n\nWe’re popping up at The Dove Inn in Barnsley on Thursday 8th May 2025\, kicking off from 5pm. Expect a chilled evening packed with creativity\, good vibes\, and great company. Whether you’re stepping up to the mic or simply enjoying a night out\, everyone’s welcome. \n\n\n\nWhat It’s All About \n\n\n\nFrom cosy pubs to buzzing bars\, UnMuted Live celebrates community\, creativity\, and connection. Whether you’re sharing a song\, a story\, a poem\, or some stand-up\, there’s a space for you on our stage. No pressure\, no egos—just an easygoing environment to express yourself and enjoy the moment. \n\n\n\nSomething Different in Barnsley \n\n\n\nIf you’re looking for a local open mic night with a twist\, this is it. Whether you’re a performer or just love discovering something new on a Thursday night\, join us at The Dove Inn. It’s your moment—whatever that looks like. \n\n\n\nOpen Miv\, the UnMuted Way.
URL:https://buffersounds.com/event/unmuted-live-open-mic-the-dove-inn/
LOCATION:The Dove Inn\, 102 Doncaster Rd\, Barnsley\, South Yorkshire\, S70 1TP\, United Kingdom
ATTACH;FMTTYPE=image/avif:https://buffersounds.com/wp-content/uploads/2025/04/UnMuted_Live-Featured_Img.avif
ORGANIZER;CN="BufferSounds":MAILTO:Connect@BufferSounds.com
END:VEVENT
BEGIN:VEVENT
DTSTART;TZID=Europe/Paris:20250501T170000
DTEND;TZID=Europe/Paris:20250501T210000
DTSTAMP:20260420T152014
CREATED:20250422T144149Z
LAST-MODIFIED:20250427T162858Z
UID:1524-1746118800-1746133200@buffersounds.com
SUMMARY:UnMuted Live: Open Mic • The Flying Dutchman
DESCRIPTION:Open Mic: Free entry.\n\n\n\n\n\n\n\n\n\nUnMuted Live is a roaming open mic night bringing authentic live music experiences to pubs\, bars\, and venues across Yorkshire. Whether you’re in Barnsley\, Sheffield\, Leeds\, or beyond\, we create welcoming spaces where music lovers and performers come together to share their sound. \n\n\n\nJoin Us in Jump\n\n\n\nWe’re setting up at The Flying Dutchman in Jump\, Barnsley on Thursday 1st May 2025 from 5pm. Expect a laid-back evening of live music\, laughter\, and good vibes. Everyone’s welcome—whether you’re stepping up to the mic or just soaking up the sounds with a drink in hand. \n\n\n\nWhat It’s All About\n\n\n\nFrom cosy village pubs to vibrant city bars\, UnMuted Live events celebrate community\, creativity\, and connection. We welcome everyone—from first-time performers testing the waters to seasoned local musicians sharing their craft. No egos\, no pressure—just a supportive space for real music and real people. \n\n\n\nYour Stage\, Your Soundtrack\n\n\n\nIf you’re searching for live music in Barnsley\, a Yorkshire open mic night\, or just something different to do on a Thursday evening\, this is the one. UnMuted Live at The Flying Dutchman is your stage and your soundtrack.
URL:https://buffersounds.com/event/unmuted-live-open-mic-the-flying-dutchman/
LOCATION:The Flying Dutchman\, The Flying Dutchman\, Jump\, Cemetery Rd\, Jump\, Barnsley\, South Yorkshire\, S74 0JN\, United Kingdom
CATEGORIES:Free,Open Mic,UnMuted Live
ATTACH;FMTTYPE=image/avif:https://buffersounds.com/wp-content/uploads/2025/04/UnMuted_Live-Flying_Dutchman-1st_May_25-Featured_Img-16_9.avif
ORGANIZER;CN="BufferSounds":MAILTO:Connect@BufferSounds.com
END:VEVENT
END:VCALENDAR